BEGIN:VCALENDAR
VERSION:2.0
PRODID:-//Rise Magazine - ECPv6.2.3//NONSGML v1.0//EN
CALSCALE:GREGORIAN
METHOD:PUBLISH
X-ORIGINAL-URL:https://www.risemagazine.org
X-WR-CALDESC:Events for Rise Magazine
REFRESH-INTERVAL;VALUE=DURATION:PT1H
X-Robots-Tag:noindex
X-PUBLISHED-TTL:PT1H
BEGIN:VTIMEZONE
TZID:America/New_York
BEGIN:DAYLIGHT
TZOFFSETFROM:-0500
TZOFFSETTO:-0400
TZNAME:EDT
DTSTART:20240310T070000
END:DAYLIGHT
BEGIN:STANDARD
TZOFFSETFROM:-0400
TZOFFSETTO:-0500
TZNAME:EST
DTSTART:20241103T060000
END:STANDARD
END:VTIMEZONE
BEGIN:VEVENT
DTSTART;TZID=America/New_York:20240903T170000
DTEND;TZID=America/New_York:20240903T190000
DTSTAMP:20260422T233436
CREATED:20240821T205441Z
LAST-MODIFIED:20240821T211331Z
UID:9120-1725382800-1725390000@www.risemagazine.org
SUMMARY:Rise & Shine Open House\, Spanish & English (Virtual)
DESCRIPTION:Interested in being apart of Rise & Shine’s next cohort? Join us to learn more about the program. \n\n\n\n\n\n\n\n\nThis event is VIRTUAL\, please click here RSVP.
URL:https://www.risemagazine.org/event/rise-shine-open-house-spanish-english/
LOCATION:NY
ATTACH;FMTTYPE=image/jpeg:https://www.risemagazine.org/wp-content/uploads/2024/08/RS-pics.jpg
ORGANIZER;CN="Teresa Bachiller":MAILTO:teresa@risemagazine.org
END:VEVENT
BEGIN:VEVENT
DTSTART;TZID=America/New_York:20240904T110000
DTEND;TZID=America/New_York:20240904T130000
DTSTAMP:20260422T233436
CREATED:20240821T210018Z
LAST-MODIFIED:20240821T210308Z
UID:9127-1725447600-1725454800@www.risemagazine.org
SUMMARY:Rise & Shine Open House\, English & Spanish (In-Person)
DESCRIPTION:Interested in being in the next Rise & Shine cohort? Attend open house to learn more about the program & and how to apply.  \nThis event is in-person\, click here to RSVP.
URL:https://www.risemagazine.org/event/rise-shine-open-house-english-spanish-in-person/
LOCATION:Rise’s Office\, 3715 East Tremont Avenue\, Bronx\, NY\, 10461\, United States
ATTACH;FMTTYPE=image/jpeg:https://www.risemagazine.org/wp-content/uploads/2024/08/IMG_6443.jpg
ORGANIZER;CN="Teresa Bachiller":MAILTO:teresa@risemagazine.org
END:VEVENT
END:VCALENDAR