BEGIN:VCALENDAR
VERSION:2.0
PRODID:-//Rise Magazine - ECPv6.2.3//NONSGML v1.0//EN
CALSCALE:GREGORIAN
METHOD:PUBLISH
X-WR-CALNAME:Rise Magazine
X-ORIGINAL-URL:https://www.risemagazine.org
X-WR-CALDESC:Events for Rise Magazine
REFRESH-INTERVAL;VALUE=DURATION:PT1H
X-Robots-Tag:noindex
X-PUBLISHED-TTL:PT1H
BEGIN:VTIMEZONE
TZID:America/New_York
BEGIN:DAYLIGHT
TZOFFSETFROM:-0500
TZOFFSETTO:-0400
TZNAME:EDT
DTSTART:20230312T070000
END:DAYLIGHT
BEGIN:STANDARD
TZOFFSETFROM:-0400
TZOFFSETTO:-0500
TZNAME:EST
DTSTART:20231105T060000
END:STANDARD
END:VTIMEZONE
BEGIN:VEVENT
DTSTART;TZID=America/New_York:20230810T170000
DTEND;TZID=America/New_York:20230810T180000
DTSTAMP:20260423T180103
CREATED:20230717T190032Z
LAST-MODIFIED:20230717T190032Z
UID:8691-1691686800-1691690400@www.risemagazine.org
SUMMARY:Parent Advocate Open House
DESCRIPTION:Are you interested in becoming a Parent Advocate? Have you had a child welfare case and it’s been closed for at least one year? Join us on August 10th at 5pm ET for a virtual open house! Email Jeanette at jeanette@risemagazine.org to RSVP!
URL:https://www.risemagazine.org/event/parent-advocate-open-house/
ATTACH;FMTTYPE=image/png:https://www.risemagazine.org/wp-content/uploads/2023/07/Parent-Advocate-1.png
END:VEVENT
END:VCALENDAR