BEGIN:VCALENDAR
VERSION:2.0
PRODID:-//Rise Magazine - ECPv6.2.3//NONSGML v1.0//EN
CALSCALE:GREGORIAN
METHOD:PUBLISH
X-WR-CALNAME:Rise Magazine
X-ORIGINAL-URL:https://www.risemagazine.org
X-WR-CALDESC:Events for Rise Magazine
REFRESH-INTERVAL;VALUE=DURATION:PT1H
X-Robots-Tag:noindex
X-PUBLISHED-TTL:PT1H
BEGIN:VTIMEZONE
TZID:America/New_York
BEGIN:DAYLIGHT
TZOFFSETFROM:-0500
TZOFFSETTO:-0400
TZNAME:EDT
DTSTART:20240310T070000
END:DAYLIGHT
BEGIN:STANDARD
TZOFFSETFROM:-0400
TZOFFSETTO:-0500
TZNAME:EST
DTSTART:20241103T060000
END:STANDARD
END:VTIMEZONE
BEGIN:VEVENT
DTSTART;TZID=America/New_York:20241004T180000
DTEND;TZID=America/New_York:20241004T200000
DTSTAMP:20260423T000815
CREATED:20240821T204432Z
LAST-MODIFIED:20240821T204442Z
UID:9117-1728064800-1728072000@www.risemagazine.org
SUMMARY:Rise's Annual Celebration
DESCRIPTION:We’re beyond excited this year to invite you to celebrate an amazing year of parent leadership at our annual fundraising gala!  \nThis year\, we’re looking at new beginnings at Rise with a new office space in the Bronx\, new initiatives of Peer support scaling out in the most impacted zip codes\, and expanding our reach to Spanish speaking parents with our Spanish Rise and Shine cohort coming this fall.  \nThe event will take place at the Bronx Banknote building\, who have been incredible community partners to Rise. We hope you’ll join us in growing our Rise programing as we take bold steps for families! Be sure to bring your sneakers as we strongly encourage it! 
URL:https://www.risemagazine.org/event/rises-annual-celebration-2/
LOCATION:The Banknote Building\, 1231 Lafayette Ave\, Bronx\, New York\, 10474\, United States
ATTACH;FMTTYPE=image/png:https://www.risemagazine.org/wp-content/uploads/2024/08/Save-the-date-2.0-3.png
ORGANIZER;CN="Rise Magazine":MAILTO:info@risemagazine.org
END:VEVENT
END:VCALENDAR