BEGIN:VCALENDAR
VERSION:2.0
PRODID:-//Rise Magazine - ECPv6.2.3//NONSGML v1.0//EN
CALSCALE:GREGORIAN
METHOD:PUBLISH
X-ORIGINAL-URL:https://www.risemagazine.org
X-WR-CALDESC:Events for Rise Magazine
REFRESH-INTERVAL;VALUE=DURATION:PT1H
X-Robots-Tag:noindex
X-PUBLISHED-TTL:PT1H
BEGIN:VTIMEZONE
TZID:America/New_York
BEGIN:DAYLIGHT
TZOFFSETFROM:-0500
TZOFFSETTO:-0400
TZNAME:EDT
DTSTART:20230312T070000
END:DAYLIGHT
BEGIN:STANDARD
TZOFFSETFROM:-0400
TZOFFSETTO:-0500
TZNAME:EST
DTSTART:20231105T060000
END:STANDARD
END:VTIMEZONE
BEGIN:VEVENT
DTSTART;TZID=America/New_York:20231019T180000
DTEND;TZID=America/New_York:20231019T200000
DTSTAMP:20260423T172328
CREATED:20230724T192419Z
LAST-MODIFIED:20230811T171729Z
UID:8705-1697738400-1697745600@www.risemagazine.org
SUMMARY:Rise’s Annual Celebration
DESCRIPTION:  \nReserve your tickets to Rise’s Annual Celebration today! \nThis year\, we’re looking to the stars and celebrating parents as guiding lights leading us toward brilliant futures for our families and a more compassionate New York City. We invite you to join us and shine bright at the Lower Eastside Girls Club – sequin\, glitter and sparkles encouraged!  \nOctober 19\, 6 pm  \nLower Eastside Girls Club  \n402 E 8th St \nNew York\, NY 10009 \nStay tuned for more program details to come!  \n  \nReserve your ticket today! Donate or RSVP to attend : \nHost Committee – $500  \nGala Ticket – $250 \nPurchase a sponsorship: \nNorth Star Navigator – $10\,000 \nEmergent Mobilizer – $7500 \nInformation Provider – $5000 \nNetwork Energizer – $2500 \nCommunity Connector – $1500 \nRelationship Builder – $1000 \nRise is committed to making our annual celebration accessible to our community. Rise Parent Graduates\, Advocates and Peer Supporters are welcome to RSVP for a Rise Parent Leader Ticket!  \nReserve your ticket!  \nTo donate by check\, please make your check payable to the Fund for the City of New York and send to:  \nFund for the City of New York \nAttn: Fahmida Alam/ Rise \n121 Sixth Ave\, 6th Floor\,  \nNew York\, NY 10013 \nRise is a partner project of the Fund for the City of New York\, a nonprofit incubator.
URL:https://www.risemagazine.org/event/rises-annual-celebration/
LOCATION:Lower Eastside Girls Club\, 402 E 8th St\, New York\, 10009\, United States
CATEGORIES:Featured
ORGANIZER;CN="Rise Magazine":MAILTO:info@risemagazine.org
END:VEVENT
END:VCALENDAR