BEGIN:VCALENDAR
VERSION:2.0
PRODID:-//Rise Magazine - ECPv6.2.3//NONSGML v1.0//EN
CALSCALE:GREGORIAN
METHOD:PUBLISH
X-WR-CALNAME:Rise Magazine
X-ORIGINAL-URL:https://www.risemagazine.org
X-WR-CALDESC:Events for Rise Magazine
REFRESH-INTERVAL;VALUE=DURATION:PT1H
X-Robots-Tag:noindex
X-PUBLISHED-TTL:PT1H
BEGIN:VTIMEZONE
TZID:America/New_York
BEGIN:DAYLIGHT
TZOFFSETFROM:-0500
TZOFFSETTO:-0400
TZNAME:EDT
DTSTART:20220313T070000
END:DAYLIGHT
BEGIN:STANDARD
TZOFFSETFROM:-0400
TZOFFSETTO:-0500
TZNAME:EST
DTSTART:20221106T060000
END:STANDARD
END:VTIMEZONE
BEGIN:VEVENT
DTSTART;TZID=America/New_York:20221026T180000
DTEND;TZID=America/New_York:20221026T200000
DTSTAMP:20260424T112848
CREATED:20220715T233024Z
LAST-MODIFIED:20221019T164652Z
UID:7666-1666807200-1666814400@www.risemagazine.org
SUMMARY:Rise Annual Celebration
DESCRIPTION:Reserve your tickets to Rise’s Annual Celebration today! Suggested donation + free tickets available for in-person and virtual attendees. \nJoin us at The Banknote Building in the Bronx to celebrate and support parents’ leadership\, achievements\, goals and strategies in the movement for family justice! Space is limited – RSVP today! \nOctober 26\, 6-8 pm ET\nPre-party: 6-6:30 pm\nThe Facebook Live of the event will begin at 6:45 pm ET. \nTickets: The event is free and open to all! We’ve included different giving levels with a $250 suggested donation. We appreciate donations of any size. You can also RSVP now and donate later. \nDonations of $250+ will receive a Rise t-shirt and tote bag at the event. \nHost Committee ticket holders will receive a two Rise t-shirts and two tote bags at the event. \n*If you would like to become an event sponsor\, contact Development Director Genevieve Saavedra: genevieve@risemagazine.org \nAccessibility: The building has wheelchair-accessible ramps and elevators to the event space. Limited parking will be available on a first-come\, first-serve basis. We will also have a Facebook live stream for guests that attend virtually. \nPlease share allergies and any other accommodations needed for in-person attendance at registration.
URL:https://www.risemagazine.org/event/rise-annual-celebration/
LOCATION:The Banknote Building\, 1231 Lafayette Ave\, Bronx\, New York\, 10474\, United States
CATEGORIES:Featured
ATTACH;FMTTYPE=image/png:https://www.risemagazine.org/wp-content/uploads/2022/07/Rise-2022-Annual-Celebration-Eventbrite-Banner.png
END:VEVENT
END:VCALENDAR