BEGIN:VCALENDAR
VERSION:2.0
PRODID:-//Rise Magazine - ECPv6.2.3//NONSGML v1.0//EN
CALSCALE:GREGORIAN
METHOD:PUBLISH
X-WR-CALNAME:Rise Magazine
X-ORIGINAL-URL:https://www.risemagazine.org
X-WR-CALDESC:Events for Rise Magazine
REFRESH-INTERVAL;VALUE=DURATION:PT1H
X-Robots-Tag:noindex
X-PUBLISHED-TTL:PT1H
BEGIN:VTIMEZONE
TZID:America/New_York
BEGIN:DAYLIGHT
TZOFFSETFROM:-0500
TZOFFSETTO:-0400
TZNAME:EDT
DTSTART:20220313T070000
END:DAYLIGHT
BEGIN:STANDARD
TZOFFSETFROM:-0400
TZOFFSETTO:-0500
TZNAME:EST
DTSTART:20221106T060000
END:STANDARD
END:VTIMEZONE
BEGIN:VEVENT
DTSTART;TZID=America/New_York:20221214T100000
DTEND;TZID=America/New_York:20221214T140000
DTSTAMP:20260424T071158
CREATED:20221208T172454Z
LAST-MODIFIED:20221208T172727Z
UID:8447-1671012000-1671026400@www.risemagazine.org
SUMMARY:Rise & Shine Open House Information Session
DESCRIPTION:Rise invites NYC parents impacted by ACS to join us for an open house information session to learn about the Rise & Shine Program and how to apply to the 2023 cohort. The open house is an opportunity to connect with the Rise & Shine staff and ask questions. \nThis is a drop-in info session where you can can come for an hour at any time during the event. You will be able to learn more about the program\, receive support in completing your application and be interviewed for Rise & Shine during the open house. Snacks and a metro card will be provided. Dec. 14 is the last day to apply and be interviewed for Rise & Shine 2023.  \nThis session will take place in person at the Rise office in Manhattan. \n>> Sign up via Eventbrite to attend. \nNote: There is an elevator in the building. Please email Teresa at teresa@risemagazine.org about any other accessibility needs. Child care is not available for in-person open houses. \nRise follows the Fund for the City of NY policy requiring anyone who works in an NYC office or workplace to be vaccinated against COVID-19. This policy applies to anyone who comes into the Rise office\, including staff and contributors\, board members\, contractors\, volunteers\, guests\, facilitators and participants in Rise programs\, including Rise & Shine. The Fund for the City of NY will work directly with any employee seeking medical or religious exemption. Face masks are required in the office.
URL:https://www.risemagazine.org/event/rise-shine-open-house-information-session-6/
LOCATION:Rise Office\, 3715 East Tremont Avenue\, Bronx\, NY\, 10461\, United States
CATEGORIES:Featured
ATTACH;FMTTYPE=image/png:https://www.risemagazine.org/wp-content/uploads/2022/12/Dec-14-Open-House-for-Website.png
ORGANIZER;CN="Teresa Bachiller":MAILTO:teresa@risemagazine.org
END:VEVENT
END:VCALENDAR